BEGIN:VCALENDAR
CALSCALE:GREGORIAN
METHOD:PUBLISH
PRODID:-//github.com/ical-org/ical.net//NONSGML ical.net 5.1.0//EN
VERSION:2.0
BEGIN:VEVENT
DTEND:20240130T133000Z
DTSTAMP:20240122T144405Z
DTSTART:20240130T074500Z
LAST-MODIFIED:20240412T011559Z
LOCATION:Elkem\, Fiskåveien 100\, Kristiansand
SEQUENCE:0
SUMMARY:Kick off på Innovasjon Norge prosjektet “Collaborative Industry 
 Resource Catalyst – CIRC”
UID:9742@www.eydecluster.com
URL:https://www.eydecluster.com/no/kalender/2024/kick-off-paa-innovasjon-no
 rge-prosjektet-collaborative-industry-resource-catalyst-circ/
END:VEVENT
END:VCALENDAR
