BEGIN:VCALENDAR
CALSCALE:GREGORIAN
METHOD:PUBLISH
PRODID:-//github.com/ical-org/ical.net//NONSGML ical.net 5.1.0//EN
VERSION:2.0
BEGIN:VEVENT
DTEND:20231102T133000Z
DTSTAMP:20231024T145551Z
DTSTART:20231102T080000Z
LAST-MODIFIED:20231024T145718Z
LOCATION:Telenor Expo på Fornebu og i flere andre byer
SEQUENCE:0
SUMMARY:Telenor inviterer: Seminar om 5G og digital infrastruktur
UID:9369@www.eydecluster.com
URL:https://www.eydecluster.com/no/kalender/2023/telenor-inviterer-seminar-
 om-5g-og-digital-infrastruktur/
END:VEVENT
END:VCALENDAR
