BEGIN:VCALENDAR
CALSCALE:GREGORIAN
METHOD:PUBLISH
PRODID:-//github.com/ical-org/ical.net//NONSGML ical.net 5.1.0//EN
VERSION:2.0
BEGIN:VEVENT
DTSTAMP:20230829T141340Z
DTSTART;VALUE=DATE:20230925
LAST-MODIFIED:20230829T141340Z
LOCATION:Campus Grimstad - C2 041
SEQUENCE:0
SUMMARY:Battery Coast/UiA invites to workshop: Battery Technology ( 1 )
UID:9060@www.eydecluster.com
URL:https://www.eydecluster.com/no/kalender/2023/battery-coastuia-invites-t
 o-workshop-battery-technology/
END:VEVENT
BEGIN:VEVENT
DTSTAMP:20230829T141340Z
DTSTART;VALUE=DATE:20230929
LAST-MODIFIED:20230829T141340Z
LOCATION:Campus Grimstad - C2 041
SEQUENCE:0
SUMMARY:Battery Coast/UiA invites to workshop: Battery Technology ( 2 )
UID:9060@www.eydecluster.com
URL:https://www.eydecluster.com/no/kalender/2023/battery-coastuia-invites-t
 o-workshop-battery-technology/
END:VEVENT
END:VCALENDAR
