BEGIN:VCALENDAR
CALSCALE:GREGORIAN
METHOD:PUBLISH
PRODID:-//github.com/ical-org/ical.net//NONSGML ical.net 5.1.0//EN
VERSION:2.0
BEGIN:VEVENT
DTSTAMP:20230213T171656Z
DTSTART;VALUE=DATE:20230425
LAST-MODIFIED:20240301T130513Z
LOCATION:Mechatronics Innovation Lab\, Jon Lilletunsvei 9\, 4879 Grimstad
SEQUENCE:0
SUMMARY:Eyde Digitaldag
UID:8425@www.eydecluster.com
URL:https://www.eydecluster.com/no/kalender/2023/eyde-digitaldag/
END:VEVENT
END:VCALENDAR
