BEGIN:VCALENDAR
CALSCALE:GREGORIAN
METHOD:PUBLISH
PRODID:-//github.com/ical-org/ical.net//NONSGML ical.net 5.1.0//EN
VERSION:2.0
BEGIN:VEVENT
DTEND:20221013T150000Z
DTSTAMP:20220908T102338Z
DTSTART:20221013T080000Z
LAST-MODIFIED:20221019T142324Z
LOCATION:Telegrafen - Kongens gate 21\, Oslo (inngang Prinsens gate). Møte
 rom Nils Holter
SEQUENCE:0
SUMMARY:BattKOMP 3 - Sprint 2: Høyere utdanning: Konkretisering av kapasit
 etsløft og fleksibilitet
UID:7815@www.eydecluster.com
URL:https://www.eydecluster.com/no/kalender/2022/battkomp-3-sprint-2-hoeyer
 e-utdanning-konkretisering-av-kapasitetsloeft-og-fleksibilitet/
END:VEVENT
END:VCALENDAR
