BEGIN:VCALENDAR
CALSCALE:GREGORIAN
METHOD:PUBLISH
PRODID:-//github.com/ical-org/ical.net//NONSGML ical.net 5.1.0//EN
VERSION:2.0
BEGIN:VEVENT
DTEND:20220815T153000Z
DTSTAMP:20220616T135454Z
DTSTART:20220815T143000Z
LAST-MODIFIED:20221019T142324Z
LOCATION:Bærekraftscenen
SEQUENCE:0
SUMMARY:Arendalsuka: Grønt industriløft. Skal norske batterier redde klim
 a?
UID:7561@www.eydecluster.com
URL:https://www.eydecluster.com/no/kalender/2022/arendalsuka-groent-industr
 iloeft-skal-norske-batterier-redde-klima/
END:VEVENT
END:VCALENDAR
