BEGIN:VCALENDAR
CALSCALE:GREGORIAN
METHOD:PUBLISH
PRODID:-//github.com/ical-org/ical.net//NONSGML ical.net 5.1.0//EN
VERSION:2.0
BEGIN:VEVENT
DTEND:20220909T090000Z
DTSTAMP:20220603T131520Z
DTSTART:20220909T070000Z
LAST-MODIFIED:20221019T142324Z
LOCATION:Webinar
SEQUENCE:0
SUMMARY:Kompetansepåfyll logistikk - Miljødrevet transport langs vei og v
 ann
UID:7547@www.eydecluster.com
URL:https://www.eydecluster.com/no/kalender/2022/kompetansepaafyll-logistik
 k-miljoedrevet-transport-langs-vei-og-vann/
END:VEVENT
END:VCALENDAR
