BEGIN:VCALENDAR
CALSCALE:GREGORIAN
METHOD:PUBLISH
PRODID:-//github.com/ical-org/ical.net//NONSGML ical.net 5.1.0//EN
VERSION:2.0
BEGIN:VEVENT
DTSTAMP:20220328T153536Z
DTSTART;VALUE=DATE:20220529
LAST-MODIFIED:20221019T142325Z
LOCATION:Radisson Blu Caledonien Hotel\, Vestre Strandgate 7\, 4610 Kristia
 nsand
SEQUENCE:0
SUMMARY:Verdenskonferanse i prøvetaking i Kristiansand Short courses Day 1
  (pre conference)
UID:7327@www.eydecluster.com
URL:https://www.eydecluster.com/no/kalender/2022/verdenskonferanse-i-proeve
 taking-i-kristiansand/
END:VEVENT
BEGIN:VEVENT
DTSTAMP:20220328T153536Z
DTSTART;VALUE=DATE:20220530
LAST-MODIFIED:20221019T142325Z
LOCATION:Radisson Blu Caledonien Hotel\, Vestre Strandgate 7\, 4610 Kristia
 nsand
SEQUENCE:0
SUMMARY:Verdenskonferanse i prøvetaking i Kristiansand Short courses Day 2
  (pre conference)
UID:7327@www.eydecluster.com
URL:https://www.eydecluster.com/no/kalender/2022/verdenskonferanse-i-proeve
 taking-i-kristiansand/
END:VEVENT
BEGIN:VEVENT
DTEND:20220531T183000Z
DTSTAMP:20220328T153536Z
DTSTART:20220531T060000Z
LAST-MODIFIED:20221019T142325Z
LOCATION:Radisson Blu Caledonien Hotel\, Vestre Strandgate 7\, 4610 Kristia
 nsand
SEQUENCE:0
SUMMARY:Verdenskonferanse i prøvetaking i Kristiansand 3 day Conference\, 
 31st May - 2nd June
UID:7327@www.eydecluster.com
URL:https://www.eydecluster.com/no/kalender/2022/verdenskonferanse-i-proeve
 taking-i-kristiansand/
END:VEVENT
BEGIN:VEVENT
DTEND:20220601T150000Z
DTSTAMP:20220328T153536Z
DTSTART:20220601T061500Z
LAST-MODIFIED:20221019T142325Z
LOCATION:Radisson Blu Caledonien Hotel\, Vestre Strandgate 7\, 4610 Kristia
 nsand
SEQUENCE:0
SUMMARY:Verdenskonferanse i prøvetaking i Kristiansand 3 day Conference\, 
 31st May - 2nd June
UID:7327@www.eydecluster.com
URL:https://www.eydecluster.com/no/kalender/2022/verdenskonferanse-i-proeve
 taking-i-kristiansand/
END:VEVENT
BEGIN:VEVENT
DTEND:20220602T150000Z
DTSTAMP:20220328T153536Z
DTSTART:20220602T061500Z
LAST-MODIFIED:20221019T142325Z
LOCATION:Radisson Blu Caledonien Hotel\, Vestre Strandgate 7\, 4610 Kristia
 nsand
SEQUENCE:0
SUMMARY:Verdenskonferanse i prøvetaking i Kristiansand 3 day Conference\, 
 31st May - 2nd June
UID:7327@www.eydecluster.com
URL:https://www.eydecluster.com/no/kalender/2022/verdenskonferanse-i-proeve
 taking-i-kristiansand/
END:VEVENT
END:VCALENDAR
