BEGIN:VCALENDAR
CALSCALE:GREGORIAN
METHOD:PUBLISH
PRODID:-//github.com/ical-org/ical.net//NONSGML ical.net 5.1.0//EN
VERSION:2.0
BEGIN:VEVENT
DTEND:20220504T160000Z
DTSTAMP:20220304T152951Z
DTSTART:20220504T083000Z
LAST-MODIFIED:20220304T153016Z
LOCATION:KILDEN PERFORMING ARTS CENTRE
SEQUENCE:0
SUMMARY:Energy Transition Summit 2022 Dinner after the program from 19:00
UID:7214@www.eydecluster.com
URL:https://www.eydecluster.com/en/calendar/2022/energy-transition-summit-2
 022/
END:VEVENT
BEGIN:VEVENT
DTEND:20220504T123000Z
DTSTAMP:20220304T152951Z
DTSTART:20220504T061500Z
LAST-MODIFIED:20220304T153016Z
LOCATION:KILDEN PERFORMING ARTS CENTRE
SEQUENCE:0
SUMMARY:Energy Transition Summit 2022 ( 2 )
UID:7214@www.eydecluster.com
URL:https://www.eydecluster.com/en/calendar/2022/energy-transition-summit-2
 022/
END:VEVENT
END:VCALENDAR
