BEGIN:VCALENDAR
CALSCALE:GREGORIAN
METHOD:PUBLISH
PRODID:-//github.com/ical-org/ical.net//NONSGML ical.net 5.1.0//EN
VERSION:2.0
BEGIN:VEVENT
DTEND:20220131T100000Z
DTSTAMP:20220107T094452Z
DTSTART:20220131T090000Z
LAST-MODIFIED:20221019T142326Z
LOCATION:digitalt
SEQUENCE:0
SUMMARY:Lansering av BattKOMP fase 2
UID:7125@www.eydecluster.com
URL:https://www.eydecluster.com/no/kalender/2022/lansering-av-battkomp-fase
 -2/
END:VEVENT
END:VCALENDAR
