BEGIN:VCALENDAR
CALSCALE:GREGORIAN
METHOD:PUBLISH
PRODID:-//github.com/ical-org/ical.net//NONSGML ical.net 5.1.0//EN
VERSION:2.0
BEGIN:VEVENT
DTEND:20211125T133000Z
DTSTAMP:20211026T143028Z
DTSTART:20211125T113000Z
LAST-MODIFIED:20221019T142323Z
LOCATION:Eureka Kompetanse  - Kursrom 2 Amfi og digitalt
SEQUENCE:0
SUMMARY:Agder Batteri delingsarena 2021
UID:6937@www.eydecluster.com
URL:https://www.eydecluster.com/no/kalender/2021/agder-batteri-delingsarena
 -2021/
END:VEVENT
END:VCALENDAR
