BEGIN:VCALENDAR
CALSCALE:GREGORIAN
METHOD:PUBLISH
PRODID:-//github.com/ical-org/ical.net//NONSGML ical.net 5.1.0//EN
VERSION:2.0
BEGIN:VEVENT
DTEND:20210922T100000Z
DTSTAMP:20210831T100059Z
DTSTART:20210922T070000Z
LAST-MODIFIED:20221019T142321Z
LOCATION:Online
SEQUENCE:0
SUMMARY:Webinar - Sirkulærøkonomi: Godt for bunnlinja – og miljøet
UID:6817@www.eydecluster.com
URL:https://www.eydecluster.com/no/kalender/2021/webinar-sirkulaeroekonomi-
 godt-for-bunnlinja-og-miljoeet/
END:VEVENT
END:VCALENDAR
