BEGIN:VCALENDAR
CALSCALE:GREGORIAN
METHOD:PUBLISH
PRODID:-//github.com/ical-org/ical.net//NONSGML ical.net 5.1.0//EN
VERSION:2.0
BEGIN:VEVENT
DTEND:20210325T140000Z
DTSTAMP:20210310T135429Z
DTSTART:20210325T130000Z
LAST-MODIFIED:20221019T142313Z
LOCATION:Webinar
SEQUENCE:0
SUMMARY:Webinar – DED/hybrid manufacturing
UID:6479@www.eydecluster.com
URL:https://www.eydecluster.com/no/kalender/2021/webinar-dedhybrid-manufact
 uring/
END:VEVENT
END:VCALENDAR
