BEGIN:VCALENDAR
CALSCALE:GREGORIAN
METHOD:PUBLISH
PRODID:-//github.com/ical-org/ical.net//NONSGML ical.net 5.1.0//EN
VERSION:2.0
BEGIN:VEVENT
DTEND:20210204T110000Z
DTSTAMP:20210114T160252Z
DTSTART:20210204T080000Z
LAST-MODIFIED:20221019T142311Z
LOCATION:digitalt
SEQUENCE:0
SUMMARY:Digitalt infomøte: Flytende havvind
UID:6286@www.eydecluster.com
URL:https://www.eydecluster.com/no/kalender/2021/digitalt-infomoete-flytend
 e-havvind/
END:VEVENT
END:VCALENDAR
