BEGIN:VCALENDAR
CALSCALE:GREGORIAN
METHOD:PUBLISH
PRODID:-//github.com/ical-org/ical.net//NONSGML ical.net 5.1.0//EN
VERSION:2.0
BEGIN:VEVENT
DTEND:20210114T090000Z
DTSTAMP:20210106T103957Z
DTSTART:20210114T080000Z
LAST-MODIFIED:20221019T142310Z
LOCATION:Webinar
SEQUENCE:0
SUMMARY:Webinar om batterier
UID:6273@www.eydecluster.com
URL:https://www.eydecluster.com/no/kalender/2021/webinar-om-batterier/
END:VEVENT
END:VCALENDAR
