BEGIN:VCALENDAR
CALSCALE:GREGORIAN
METHOD:PUBLISH
PRODID:-//github.com/ical-org/ical.net//NONSGML ical.net 5.1.0//EN
VERSION:2.0
BEGIN:VEVENT
DTEND:20201209T085500Z
DTSTAMP:20201119T091159Z
DTSTART:20201209T071500Z
LAST-MODIFIED:20221019T142323Z
LOCATION:Webinar
SEQUENCE:0
SUMMARY:Muligheter i norsk batteriverdikjede - webinar
UID:6182@www.eydecluster.com
URL:https://www.eydecluster.com/no/kalender/2020/muligheter-i-norsk-batteri
 verdikjede-webinar/
END:VEVENT
END:VCALENDAR
