BEGIN:VCALENDAR
CALSCALE:GREGORIAN
METHOD:PUBLISH
PRODID:-//github.com/ical-org/ical.net//NONSGML ical.net 5.1.0//EN
VERSION:2.0
BEGIN:VEVENT
DTEND:20200921T093000Z
DTSTAMP:20200901T151557Z
DTSTART:20200921T080000Z
LAST-MODIFIED:20221019T142320Z
LOCATION:Webinar
SEQUENCE:0
SUMMARY:The Nordic Battery Scene
UID:5952@www.eydecluster.com
URL:https://www.eydecluster.com/no/kalender/2020/the-nordic-battery-scene/
END:VEVENT
END:VCALENDAR
