BEGIN:VCALENDAR
CALSCALE:GREGORIAN
METHOD:PUBLISH
PRODID:-//github.com/ical-org/ical.net//NONSGML ical.net 5.1.0//EN
VERSION:2.0
BEGIN:VEVENT
DTEND:20201118T150000Z
DTSTAMP:20200824T091908Z
DTSTART:20201118T080000Z
LAST-MODIFIED:20221019T142320Z
LOCATION:digitalt OG fysisk
SEQUENCE:0
SUMMARY:Arrangementer fra Horisont Europa/Green Deal
UID:5938@www.eydecluster.com
URL:https://www.eydecluster.com/no/kalender/2020/arrangementer-fra-horisont
 -europagreen-deal/
END:VEVENT
END:VCALENDAR
