BEGIN:VCALENDAR
CALSCALE:GREGORIAN
METHOD:PUBLISH
PRODID:-//github.com/ical-org/ical.net//NONSGML ical.net 5.1.0//EN
VERSION:2.0
BEGIN:VEVENT
DTEND:20200617T124500Z
DTSTAMP:20200615T093424Z
DTSTART:20200617T110000Z
LAST-MODIFIED:20221019T142319Z
LOCATION:digitalt
SEQUENCE:0
SUMMARY:Innovasjonstalen 2020
UID:5511@www.eydecluster.com
URL:https://www.eydecluster.com/no/kalender/2020/innovasjonstalen-2020/
END:VEVENT
END:VCALENDAR
