BEGIN:VCALENDAR
CALSCALE:GREGORIAN
METHOD:PUBLISH
PRODID:-//github.com/ical-org/ical.net//NONSGML ical.net 5.1.0//EN
VERSION:2.0
BEGIN:VEVENT
DTEND:20200603T153000Z
DTSTAMP:20200513T150802Z
DTSTART:20200603T063000Z
LAST-MODIFIED:20221019T142318Z
LOCATION:Agder hydrogennettverk\, Kristiansand/webinar
SEQUENCE:0
SUMMARY:Hydrogenkonferansen
UID:5450@www.eydecluster.com
URL:https://www.eydecluster.com/no/kalender/2020/hydrogenkonferansen/
END:VEVENT
END:VCALENDAR
