BEGIN:VCALENDAR
CALSCALE:GREGORIAN
METHOD:PUBLISH
PRODID:-//github.com/ical-org/ical.net//NONSGML ical.net 5.1.0//EN
VERSION:2.0
BEGIN:VEVENT
DTEND:20200302T160000Z
DTSTAMP:20200122T101622Z
DTSTART:20200302T110000Z
LAST-MODIFIED:20221019T142312Z
LOCATION:Sentralen\, Oslo\, Norway
SEQUENCE:0
SUMMARY:Green Industry and ICT Matchmaking
UID:5236@www.eydecluster.com
URL:https://www.eydecluster.com/no/kalender/2020/green-industry-and-ict-mat
 chmaking/
END:VEVENT
END:VCALENDAR
