BEGIN:VCALENDAR
CALSCALE:GREGORIAN
METHOD:PUBLISH
PRODID:-//github.com/ical-org/ical.net//NONSGML ical.net 5.1.0//EN
VERSION:2.0
BEGIN:VEVENT
DTEND:20191030T200000Z
DTSTAMP:20190906T094715Z
DTSTART:20191030T073000Z
LAST-MODIFIED:20221019T142319Z
LOCATION:Kristiansand
SEQUENCE:0
SUMMARY:Sørveiv Tech ( 1 )
UID:4882@www.eydecluster.com
URL:https://www.eydecluster.com/no/kalender/2019/soerveiv-tech/
END:VEVENT
BEGIN:VEVENT
DTEND:20191031T150000Z
DTSTAMP:20190906T094715Z
DTSTART:20191031T073000Z
LAST-MODIFIED:20221019T142319Z
LOCATION:Kristiansand
SEQUENCE:0
SUMMARY:Sørveiv Tech ( 2 )
UID:4882@www.eydecluster.com
URL:https://www.eydecluster.com/no/kalender/2019/soerveiv-tech/
END:VEVENT
END:VCALENDAR
