BEGIN:VCALENDAR
CALSCALE:GREGORIAN
METHOD:PUBLISH
PRODID:-//github.com/ical-org/ical.net//NONSGML ical.net 5.1.0//EN
VERSION:2.0
BEGIN:VEVENT
DTEND:20191010T120000Z
DTSTAMP:20190823T100014Z
DTSTART:20191010T070000Z
LAST-MODIFIED:20221019T142318Z
LOCATION:Kilden Teater - og konserthus
SEQUENCE:0
SUMMARY:CSR-konferansen
UID:4852@www.eydecluster.com
URL:https://www.eydecluster.com/no/kalender/2019/csr-konferansen/
END:VEVENT
END:VCALENDAR
