BEGIN:VCALENDAR
CALSCALE:GREGORIAN
METHOD:PUBLISH
PRODID:-//github.com/ical-org/ical.net//NONSGML ical.net 5.1.0//EN
VERSION:2.0
BEGIN:VEVENT
DTEND:20190425T120000Z
DTSTAMP:20190307T090117Z
DTSTART:20190425T093000Z
LAST-MODIFIED:20221019T142313Z
LOCATION:Kristiansand
SEQUENCE:0
SUMMARY:Informasjonsmøte om "The Explorer" - Norges digitale utstillingsvi
 ndu
UID:3506@www.eydecluster.com
URL:https://www.eydecluster.com/no/kalender/2019/informasjonsmoete-om-the-e
 xplorer-norges-digitale-utstillingsvindu/
END:VEVENT
END:VCALENDAR
