BEGIN:VCALENDAR
CALSCALE:GREGORIAN
METHOD:PUBLISH
PRODID:-//github.com/ical-org/ical.net//NONSGML ical.net 5.1.0//EN
VERSION:2.0
BEGIN:VEVENT
DTEND:20190128T150000Z
DTSTAMP:20190108T130513Z
DTSTART:20190128T090000Z
LAST-MODIFIED:20221019T142311Z
LOCATION:Sentralen\, Øvre Slottsgate 3\, Sentrum\,  0157 Oslo
SEQUENCE:0
SUMMARY:From waste to value - Nordic opportunities in the circular economy
UID:3438@www.eydecluster.com
URL:https://www.eydecluster.com/no/kalender/2019/from-waste-to-value-nordic
 -opportunities-in-the-circular-economy/
END:VEVENT
END:VCALENDAR
