BEGIN:VCALENDAR
CALSCALE:GREGORIAN
METHOD:PUBLISH
PRODID:-//github.com/ical-org/ical.net//NONSGML ical.net 5.1.0//EN
VERSION:2.0
BEGIN:VEVENT
DTEND:20180309T133000Z
DTSTAMP:20181005T105400Z
DTSTART:20180309T071500Z
LAST-MODIFIED:20181005T105511Z
LOCATION:UiA\, Grimstad
SEQUENCE:0
SUMMARY:Samling med Eyde Logistikk
UID:3262@www.eydecluster.com
URL:https://www.eydecluster.com/en/calendar/2018/samling-med-eyde-logistikk
 /
END:VEVENT
END:VCALENDAR
