BEGIN:VCALENDAR
CALSCALE:GREGORIAN
METHOD:PUBLISH
PRODID:-//github.com/ical-org/ical.net//NONSGML ical.net 5.1.0//EN
VERSION:2.0
BEGIN:VEVENT
DTEND:20180605T120000Z
DTSTAMP:20180425T154843Z
DTSTART:20180605T064500Z
LAST-MODIFIED:20221019T142316Z
LOCATION:Saint Gobain\, Lillesand
SEQUENCE:0
SUMMARY:Eyde Prosjektledelse - fagsamling
UID:2543@www.eydecluster.com
URL:https://www.eydecluster.com/no/kalender/2018/eyde-prosjektledelse-fagsa
 mling/
END:VEVENT
END:VCALENDAR
