BEGIN:VCALENDAR
CALSCALE:GREGORIAN
METHOD:PUBLISH
PRODID:-//github.com/ical-org/ical.net//NONSGML ical.net 5.1.0//EN
VERSION:2.0
BEGIN:VEVENT
DTEND:20180419T110000Z
DTSTAMP:20180417T112429Z
DTSTART:20180419T070000Z
LAST-MODIFIED:20221019T142316Z
LOCATION:Stasjonsgata 26\, Lyngdal
SEQUENCE:0
SUMMARY:Miniseminar om SkatteFunn
UID:2536@www.eydecluster.com
URL:https://www.eydecluster.com/no/kalender/2018/miniseminar-om-skattefunn/
END:VEVENT
END:VCALENDAR
