BEGIN:VCALENDAR
CALSCALE:GREGORIAN
METHOD:PUBLISH
PRODID:-//github.com/ical-org/ical.net//NONSGML ical.net 5.1.0//EN
VERSION:2.0
BEGIN:VEVENT
DTEND:20180420T120000Z
DTSTAMP:20180325T205253Z
DTSTART:20180420T070000Z
LAST-MODIFIED:20221019T142315Z
LOCATION:UiA\, campus Grimstad
SEQUENCE:0
SUMMARY:Skogbasert biodrivstoff og biokullproduksjon i Agder
UID:2516@www.eydecluster.com
URL:https://www.eydecluster.com/no/kalender/2018/skogbasert-biodrivstoff-og
 -biokullproduksjon-i-agder/
END:VEVENT
END:VCALENDAR
