BEGIN:VCALENDAR
CALSCALE:GREGORIAN
METHOD:PUBLISH
PRODID:-//github.com/ical-org/ical.net//NONSGML ical.net 5.1.0//EN
VERSION:2.0
BEGIN:VEVENT
DTEND:20180412T130000Z
DTSTAMP:20180301T125405Z
DTSTART:20180412T070000Z
LAST-MODIFIED:20221019T142314Z
LOCATION:NIVA\, Grimstad
SEQUENCE:0
SUMMARY:Kick-off Eyde Industriell Symbiose
UID:2423@www.eydecluster.com
URL:https://www.eydecluster.com/no/kalender/2018/kick-off-eyde-industriell-
 symbiose/
END:VEVENT
END:VCALENDAR
