BEGIN:VCALENDAR
CALSCALE:GREGORIAN
METHOD:PUBLISH
PRODID:-//github.com/ical-org/ical.net//NONSGML ical.net 5.1.0//EN
VERSION:2.0
BEGIN:VEVENT
DTEND:20171024T100000Z
DTSTAMP:20170828T142653Z
DTSTART:20171024T063000Z
LAST-MODIFIED:20221019T142314Z
LOCATION:Grønt Senter
SEQUENCE:0
SUMMARY:Prosessvariasjon og måleusikkerhet
UID:2155@www.eydecluster.com
URL:https://www.eydecluster.com/no/kalender/2017/prosessvariasjon-og-maaleu
 sikkerhet/
END:VEVENT
END:VCALENDAR
