BEGIN:VCALENDAR
CALSCALE:GREGORIAN
METHOD:PUBLISH
PRODID:-//github.com/ical-org/ical.net//NONSGML ical.net 5.1.0//EN
VERSION:2.0
BEGIN:VEVENT
DTEND:20260428T063000Z
DTSTAMP:20260420T152235Z
DTSTART:20260428T060000Z
LAST-MODIFIED:20260420T152251Z
LOCATION:Teams/digitalt
SEQUENCE:0
SUMMARY:Agder Symbiose: Digital morgenkaffe med kritiske råmaterialer i fo
 kus
UID:13947@www.eydecluster.com
URL:https://www.eydecluster.com/no/kalender/2026/agder-symbiose-digital-mor
 genkaffe-med-kritiske-raamaterialer-i-fokus/
END:VEVENT
END:VCALENDAR
