BEGIN:VCALENDAR
CALSCALE:GREGORIAN
METHOD:PUBLISH
PRODID:-//github.com/ical-org/ical.net//NONSGML ical.net 5.1.0//EN
VERSION:2.0
BEGIN:VEVENT
DTEND:20260429T073000Z
DTSTAMP:20260311T145747Z
DTSTART:20260429T063000Z
LAST-MODIFIED:20260311T160218Z
LOCATION:Digitalt/Teams
SEQUENCE:0
SUMMARY:Sidestrømmer fra prosessindustrien: Fra kartlegging til utnyttelse
UID:13794@www.eydecluster.com
URL:https://www.eydecluster.com/no/kalender/2026/sidestroemmer-fra-prosessi
 ndustrien-fra-kartlegging-til-utnyttelse/
END:VEVENT
END:VCALENDAR
