BEGIN:VCALENDAR
CALSCALE:GREGORIAN
METHOD:PUBLISH
PRODID:-//github.com/ical-org/ical.net//NONSGML ical.net 5.1.0//EN
VERSION:2.0
BEGIN:VEVENT
DTEND:20260318T170000Z
DTSTAMP:20251205T111747Z
DTSTART:20260318T130000Z
LAST-MODIFIED:20260317T151551Z
LOCATION:UiA Kristiansand\, Kunnskapsparken (restauranten)
SEQUENCE:0
SUMMARY:Velkommen til årsmøte i Eyde-klyngen 18. mars 2026!
UID:13590@www.eydecluster.com
URL:https://www.eydecluster.com/no/kalender/2026/velkommen-til-aarsmoete-i-
 eyde-klyngen-18-mars-2026/
END:VEVENT
END:VCALENDAR
